BEGIN:VCALENDAR
VERSION:2.0
PRODID:-//Kalender//
BEGIN:VEVENT
SUMMARY:Weiterbildung - Technische Regeln Gasinstallation (TRGI) für den 
 verantwortlichen Fachmann  (Zusatztermin)
DTSTART:20261008T070000Z
DTEND:20261008T140000Z
DTSTAMP:20260420T131541Z
UID:event_ical_eventmanagement_2332
DESCRIPTION:Weiterbildung Gasinstallation Im Oktober 2018 ist das neue Tec
 hnische Regelwerk Gasinstallation/DVGW-Arbeitsblatt G 600 mit zahlreichen 
 Änderungen und Anpassungen erschienen. Die aktuelle Weiterbildung für ve
 rantwortliche Fachleute dient der Vertiefung des Fachwissens und der Schul
 ung zu praxisnahen Themen. Im Seminar erhalten Sie die ZVSHK Betriebsanlei
 tung Gasinstallation ausgereicht. Die Teilnahmebescheinigung gilt als Fort
 bildungsnachweis zur Verlängerung der Eintragung im Installateurverzeichn
 is.
LOCATION:Stadtwerke Sangerhausen GmbH\, Alban-Hess-Straße 29\, 06526 Sang
 erhausen\, -
END:VEVENT
END:VCALENDAR
