BEGIN:VCALENDAR
VERSION:2.0
PRODID:-//Kalender//
BEGIN:VEVENT
SUMMARY:Fachkunde für brennbare Kältemittel (Sicherheitsgruppe A2L\, A2 
 und A3)\, Fachkunde für brennbare Kältemittel Propan
DTSTART;TZID=Europe/Berlin:20260910T080000
DTEND;TZID=Europe/Berlin:20260910T180000
DTSTAMP:20260425T192440Z
UID:event_ical_eventmanagement_2295
DESCRIPTION:Anmeldung Aufgrund der Verbote und Beschränkungen bei der Ver
 wendung fluorierter Treibhausgase werden zunehmend brennbare Kältemittel 
 wie R32 oder Propan (R290) in Klimaanlagen und Wärmepumpen eingesetzt. We
 r Wärmepumpen (Split- oder Monoblockgeräte) und Klimaanlagen mit brennba
 ren Kältemitteln montieren\, in Betrieb nehmen\, dabei auf Dichtheit prü
 fen und instandhalten will\, muss neben einer einschlägigen Handwerksroll
 en-Eintragung gemäß BetrSichV § 2 Abs. 5. und DIN EN 378-4 einen Fachku
 ndenachweis erbringen. Aufbauend auf der Sachkunde gem. § 5 ChemKlimaschu
 tzV (Kälteschein) erhalten die Teilnehmer die notwendigen theoretischen u
 nd praktischen Kenntnisse im Umgang mit brennbaren Kältemitteln für die 
 Planung\, Montage und Instandhaltung von Wärmepumpen und Klimaanlagen mit
  brennbaren Kältemitteln. Preise: Mitglied im Fachverband = 295\,00 € N
 etto\, Nicht-Mitglied = 430\,00 € Netto
LOCATION:Mainmetall Dessau\, Kochstedter Kreisstraße 61A\, 06847 Dessau\,
  Deutschland
END:VEVENT
END:VCALENDAR
