BEGIN:VCALENDAR
VERSION:2.0
PRODID:-//Kalender//
BEGIN:VEVENT
SUMMARY:SACHKUNDE gem. § 5 ChemKlimaSchutzV Kategorie I und II
DTSTART;TZID=Europe/Berlin:20260907T090000
DTEND;TZID=Europe/Berlin:20260909T090000
DTSTAMP:20260425T143458Z
UID:event_ical_eventmanagement_2294
DESCRIPTION:Sehr geehrte Damen und Herren\, das Interesse und der Einsatz 
 von Wärmepumpen und Klimaanlagen hält weiterhin an. Wer Wärmepumpen (Sp
 lit oder Monoblockgeräte) und Klimaanlagen mit fluorierten Treibhausgasen
  (z. B. R 134a\, R 410A oder R 32) montieren\, in Betrieb nehmen\, dabei a
 uf Dichtheit prüfen und instandhalten will muss gemäß § 5 ChemKlimaSch
 utzV einen Sachkundenachweis erbringen. Wir bieten Ihnen  ein Seminar mit
  Prüfung und Selbststudium zur Erlangung der gesetzlich geforderten Sachk
 undebescheinigung an. Nach erfolgreicher Ablegung der Prüfung und Einreic
 hung der geforderten Nachweise erhalten Sie eine Sachkundebescheinigung\, 
 die u. a. eine Voraussetzung zur Firmenzertifizierung und zum Bezug von K
 ältekomponenten vom Großhandel ist. Mehr Informationen zum Lehrgang entn
 ehmen Sie bitte der angfügten Ausschreibung.  Die Platzkapazität ist au
 f 14 Teilnehmer beschränkt. Die Mindestteilnehmerzahl liegt bei 10. Anmel
 dungen sind ab sofort möglich. Für Fragen zum Lehrgang steht Ihnen Frau 
 Christiansen gern zur Verfügung. IHR FACHVERBAND SANITÄR HEIZUG KLIMA SA
 CHSEN-ANHALT
LOCATION:Hempelmann Schönebeck\, Magdeburger Straße 263\, 39218 Schöneb
 eck\, Deutschland
END:VEVENT
END:VCALENDAR
