BEGIN:VCALENDAR
VERSION:2.0
PRODID:-//Kalender//
BEGIN:VEVENT
SUMMARY:Weiterbildung - Technische Regeln Gasinstallation (TRGI) für den 
 verantwortlichen Fachmann
DTSTART:20260520T070000Z
DTEND:20260520T140000Z
DTSTAMP:20260421T114448Z
UID:event_ical_eventmanagement_2261
DESCRIPTION:Weiterbildung Gasinstallation Im Oktober 2018 ist das neue Tec
 hnische Regelwerk Gasinstallation/DVGW-Arbeitsblatt G 600 mit zahlreichen 
 Änderungen und Anpassungen erschienen. Die aktuelle Weiterbildung für ve
 rantwortliche Fachleute dient der Vertiefung des Fachwissens und der Schul
 ung zu praxisnahen Themen. Im Seminar erhalten Sie die ZVSHK Betriebsanlei
 tung Gasinstallation ausgereicht. Die Teilnahmebescheinigung gilt als Fort
 bildungsnachweis zur Verlängerung der Eintragung im Installateurverzeichn
 is.
LOCATION:HALBERSTADTWERKE GmbH\, Wehrstedter Straße 48\, 38820 Halberstad
 t\, Deutschland
END:VEVENT
END:VCALENDAR
