BEGIN:VCALENDAR
VERSION:2.0
PRODID:-//Kalender//
BEGIN:VEVENT
SUMMARY:WASSERFACHTAGUNG am 09.10.2025
DTSTART;TZID=Europe/Berlin:20251009T090000
DTEND;TZID=Europe/Berlin:20251009T161500
DTSTAMP:20260425T131813Z
UID:event_ical_eventmanagement_2108
DESCRIPTION:Sehr geehrte Damen und Herren und Besucher dieser Seite\, zun
 ächst bedanken wir uns für Ihr Interesse an der WASSERFACHTAGUNG 2025 un
 d freuen uns\, Ihnen auch in diesem Jahr ein interessantes Programm anbiet
 en zu können. Die Tagung steht unter dem Motto von National Geographic "A
 lles Wasser\, das es jemals geben wird\, ist jetzt da."\, das es treffende
 r nicht ausdrücken kann\, was für ein wertvolles und schützenswertes Gu
 t unser Wasser ist. Das SHK-Handwerk weiß das selbstverständlich und tut
  sein Bestes zur Erhaltung dieser lebensnotwendigen Ressource. Dafür steh
 en u. a. die Weiterbildungsangebote des Fachverbandes SHK zur Verfügung. 
 Nutzen Sie die Möglichkeit der Fortbildung. Wir freuen uns auf ein Wieder
 sehen in Magdeburg. Bis dahin wünschen wir einen schönen Sommer und ble
 iben oder werden Sie gesund! IHR FACHVERBAND SANITÄR HEIZUNG KLIMA SACHSE
 N-ANHALT
LOCATION:Halber 85\, Halberstädter Straße 85\, 39112 Magdeburg\, -
END:VEVENT
END:VCALENDAR
